BEGIN:VCALENDAR
VERSION:2.0
PRODID:https://fedsoc.org/events/the-case-for-an-activist-judiciary-1
BEGIN:VEVENT
UID:63a9e81ea9ca4
DTSTART:20220328T171500Z
SEQUENCE:0
TRANSP:OPAQUE
DTEND:20220328T181500Z
LOCATION:1111 E 60th Street Chicago IL 60637
SUMMARY:The Case for an Activist Judiciary
CLASS:PUBLIC
X-ALT-DESC;FMTTYPE=text/html:Event: The Case for an Activist Judiciary\n\n 
 Location: 1111 E 60th Street Chicago IL 60637\n\n
DTSTAMP:20221226T132950Z
END:VEVENT
END:VCALENDAR