BEGIN:VCALENDAR
VERSION:2.0
PRODID:https://fedsoc.org/events/is-there-a-constitutional-right-to-design-
 distribute-3d-firearm-plans
BEGIN:VEVENT
UID:63a9b6497444c
DTSTART:20220314T193042Z
SEQUENCE:0
TRANSP:OPAQUE
DTEND:20220314T203048Z
LOCATION:385 Charles E Young Dr E Los Angeles CA 90095
SUMMARY:Is There a Constitutional Right to Design & Distribute 3D Firearm P
 lans?
CLASS:PUBLIC
X-ALT-DESC;FMTTYPE=text/html:Event: Is There a Constitutional Right to Desi
 gn & Distribute 3D Firearm Plans?\n\n Location: 385 Charles E Young Dr E L
 os Angeles CA 90095\n\n
DTSTAMP:20221226T095713Z
END:VEVENT
END:VCALENDAR