BEGIN:VCALENDAR
VERSION:2.0
PRODID:https://fedsoc.org/events/panel-ii
BEGIN:VEVENT
UID:63a987935698f
DTSTART:20220623T173034Z
SEQUENCE:0
TRANSP:OPAQUE
DTEND:20220623T190043Z
LOCATION:300 New Jersey Ave NW Washington DC 20001
SUMMARY:Panel II: Artificial Intelligence: Implications for National Securi
 ty
CLASS:PUBLIC
X-ALT-DESC;FMTTYPE=text/html:Event: Panel II: Artificial Intelligence: Impl
 ications for National Security\n\n Location: 300 New Jersey Ave NW Washing
 ton DC 20001\n\n
DTSTAMP:20221226T063755Z
END:VEVENT
END:VCALENDAR