BEGIN:VCALENDAR
VERSION:2.0
PRODID:https://fedsoc.org/events/lunch-and-keynote-address-2
BEGIN:VEVENT
UID:63a987a71d6dd
DTSTART:20220623T160051Z
SEQUENCE:0
TRANSP:OPAQUE
DTEND:20220623T171559Z
LOCATION:300 New Jersey Ave NW Washington DC 20001
SUMMARY:Lunch
CLASS:PUBLIC
X-ALT-DESC;FMTTYPE=text/html:Event: Lunch\n\n Location: 300 New Jersey Ave 
 NW Washington DC 20001\n\n
DTSTAMP:20221226T063815Z
END:VEVENT
END:VCALENDAR