BEGIN:VCALENDAR
VERSION:2.0
PRODID:https://fedsoc.org/events/panel-i
BEGIN:VEVENT
UID:63a98783cc696
DTSTART:20220623T141536Z
SEQUENCE:0
TRANSP:OPAQUE
DTEND:20220623T154547Z
LOCATION:300 New Jersey Ave NW Washington DC 20001
SUMMARY:Panel I: Cryptocurrency and National Security
CLASS:PUBLIC
X-ALT-DESC;FMTTYPE=text/html:Event: Panel I: Cryptocurrency and National Se
 curity\n\n Location: 300 New Jersey Ave NW Washington DC 20001\n\n
DTSTAMP:20221226T063739Z
END:VEVENT
END:VCALENDAR