BEGIN:VCALENDAR
VERSION:2.0
PRODID:https://fedsoc.org/events/opening-remarks-11
BEGIN:VEVENT
UID:63a987898bb59
DTSTART:20220623T140033Z
SEQUENCE:0
TRANSP:OPAQUE
DTEND:20220623T141544Z
LOCATION:300 New Jersey Ave NW Washington DC 20001
SUMMARY:Opening Remarks
CLASS:PUBLIC
X-ALT-DESC;FMTTYPE=text/html:Event: Opening Remarks\n\n Location: 300 New J
 ersey Ave NW Washington DC 20001\n\n
DTSTAMP:20221226T063745Z
END:VEVENT
END:VCALENDAR