BEGIN:VCALENDAR
VERSION:2.0
PRODID:https://fedsoc.org/events/registration-22
BEGIN:VEVENT
UID:63a9877eca58c
DTSTART:20220623T133000Z
SEQUENCE:0
TRANSP:OPAQUE
DTEND:20220623T140000Z
LOCATION:300 New Jersey Ave NW Washington DC 20001
SUMMARY:Registration
CLASS:PUBLIC
X-ALT-DESC;FMTTYPE=text/html:Event: Registration\n\n Location: 300 New Jers
 ey Ave NW Washington DC 20001\n\n
DTSTAMP:20221226T063734Z
END:VEVENT
END:VCALENDAR