BEGIN:VCALENDAR
VERSION:2.0
PRODID:https://fedsoc.org/events/2022-national-security-symposium
BEGIN:VEVENT
UID:63a9877922b16
DTSTART:20220623T133000Z
SEQUENCE:0
TRANSP:OPAQUE
DTEND:20220623T193000Z
LOCATION:300 New Jersey Ave NW Washington DC 20001
SUMMARY:2022 National Security Symposium
CLASS:PUBLIC
X-ALT-DESC;FMTTYPE=text/html:Event: 2022 National Security Symposium\n\n Lo
 cation: 300 New Jersey Ave NW Washington DC 20001\n\n
DTSTAMP:20221226T063729Z
END:VEVENT
END:VCALENDAR