BEGIN:VCALENDAR
VERSION:2.0
PRODID:https://fedsoc.org/events/discretion-or-lawmaking-the-legality-of-bl
 anket-nonenforcement-policies
BEGIN:VEVENT
UID:63a9f587d2d29
DTSTART:20220310T170000Z
SEQUENCE:0
TRANSP:OPAQUE
DTEND:20220310T181500Z
LOCATION:55 West 12th Avenue Columbus OH 43210
SUMMARY:Discretion or Lawmaking? The Legality of Blanket Nonenforcement Pol
 icies
CLASS:PUBLIC
X-ALT-DESC;FMTTYPE=text/html:Event: Discretion or Lawmaking? The Legality o
 f Blanket Nonenforcement Policies\n\n Location: 55 West 12th Avenue Columb
 us OH 43210\n\n
DTSTAMP:20221226T142703Z
END:VEVENT
END:VCALENDAR