BEGIN:VCALENDAR
VERSION:2.0
PRODID:https://fedsoc.org/events/the-future-of-chevron-deference-5
BEGIN:VEVENT
UID:63a9f5700fa83
DTSTART:20220315T191500Z
SEQUENCE:0
TRANSP:OPAQUE
DTEND:20220315T201500Z
LOCATION:1201 E Speedway Blvd Tucson AZ 85721
SUMMARY:The Future of Chevron Deference
CLASS:PUBLIC
X-ALT-DESC;FMTTYPE=text/html:Event: The Future of Chevron Deference\n\n Loc
 ation: 1201 E Speedway Blvd Tucson AZ 85721\n\n
DTSTAMP:20221226T142640Z
END:VEVENT
END:VCALENDAR