BEGIN:VCALENDAR
VERSION:2.0
PRODID:https://fedsoc.org/events/how-should-we-think-about-roberts-and-brey
 er-s-plan-to-save-the-supreme-court
BEGIN:VEVENT
UID:63a9989a31bef
DTSTART:20220314T220000Z
SEQUENCE:0
TRANSP:OPAQUE
DTEND:20220314T230000Z
LOCATION:E Denny Circle Lexington VA 24450
SUMMARY:How Should We Think About Roberts' and Breyer's Plan to Save the Su
 preme Court?
CLASS:PUBLIC
X-ALT-DESC;FMTTYPE=text/html:Event: How Should We Think About Roberts' and 
 Breyer's Plan to Save the Supreme Court?\n\n Location: E Denny Circle Lexi
 ngton VA 24450\n\n
DTSTAMP:20221226T075034Z
END:VEVENT
END:VCALENDAR