BEGIN:VCALENDAR
VERSION:2.0
PRODID:https://fedsoc.org/events/implications-of-the-current-international-
 crisis-a-conversation-with-mary-kissel
BEGIN:VEVENT
UID:63a9c536b1cdd
DTSTART:20220318T170000Z
SEQUENCE:0
TRANSP:OPAQUE
DTEND:20220318T180000Z
LOCATION:2727 18th Street Homewood AL 35209
SUMMARY:Implications of the Current International Crisis:  A Conversation w
 ith Mary Kissel
CLASS:PUBLIC
X-ALT-DESC;FMTTYPE=text/html:Event: Implications of the Current Internation
 al Crisis:  A Conversation with Mary Kissel\n\n Location: 2727 18th Street
  Homewood AL 35209\n\n
DTSTAMP:20221226T110054Z
END:VEVENT
END:VCALENDAR