BEGIN:VCALENDAR
VERSION:2.0
PRODID:https://fedsoc.org/events/litigation-update-LTL-management
BEGIN:VEVENT
UID:63a9bbd81e975
DTSTART:20220309T190000Z
SEQUENCE:0
TRANSP:OPAQUE
DTEND:20220309T200000Z
LOCATION:   
SUMMARY:Litigation Update: In re: LTL Management
CLASS:PUBLIC
X-ALT-DESC;FMTTYPE=text/html:Event: Litigation Update: In re: LTL Managemen
 t\n\n Location:    \n\n
DTSTAMP:20221226T102056Z
END:VEVENT
END:VCALENDAR