BEGIN:VCALENDAR
VERSION:2.0
PRODID:https://fedsoc.org/events/courthouse-steps-oral-argument-teleforum-w
 est-virginia-v-epa
BEGIN:VEVENT
UID:63a9bab2ee28f
DTSTART:20220228T200000Z
SEQUENCE:0
TRANSP:OPAQUE
DTEND:20220228T210000Z
LOCATION:   
SUMMARY:Courthouse Steps Oral Argument: West Virginia v. EPA
CLASS:PUBLIC
X-ALT-DESC;FMTTYPE=text/html:Event: Courthouse Steps Oral Argument: West Vi
 rginia v. EPA\n\n Location:    \n\n
DTSTAMP:20221226T101602Z
END:VEVENT
END:VCALENDAR