BEGIN:VCALENDAR
VERSION:2.0
PRODID:https://fedsoc.org/events/book-review-unborn-human-life-and-fundamen
 tal-rights-leading-constitutional-cases-under-scrutiny
BEGIN:VEVENT
UID:63a9bb523749e
DTSTART:20220228T210000Z
SEQUENCE:0
TRANSP:OPAQUE
DTEND:20220228T220000Z
LOCATION:   
SUMMARY:Book Review: Unborn Human Life and Fundamental Rights: Leading Cons
 titutional Cases under Scrutiny
CLASS:PUBLIC
X-ALT-DESC;FMTTYPE=text/html:Event: Book Review: Unborn Human Life and Fund
 amental Rights: Leading Constitutional Cases under Scrutiny\n\n Location: 
    \n\n
DTSTAMP:20221226T101842Z
END:VEVENT
END:VCALENDAR