BEGIN:VCALENDAR
VERSION:2.0
PRODID:https://fedsoc.org/events/the-fda-transparency-and-efficiency
BEGIN:VEVENT
UID:63a7888d65e2d
DTSTART:20220415T160000Z
SEQUENCE:0
TRANSP:OPAQUE
DTEND:20220415T170000Z
LOCATION:Myron Taylor Hall Ithaca NY 14850
SUMMARY:The FDA\, Transparency\, and Efficiency
CLASS:PUBLIC
X-ALT-DESC;FMTTYPE=text/html:Event: The FDA\, Transparency\, and Efficiency
 \n\n Location: Myron Taylor Hall Ithaca NY 14850\n\n
DTSTAMP:20221224T181733Z
END:VEVENT
END:VCALENDAR