BEGIN:VCALENDAR
VERSION:2.0
PRODID:https://fedsoc.org/events/a-discussion-on-executive-power
BEGIN:VEVENT
UID:63a9ee898b56f
DTSTART:20220324T161500Z
SEQUENCE:0
TRANSP:OPAQUE
DTEND:20220324T173000Z
LOCATION:Myron Taylor Hall Ithaca NY 14850
SUMMARY:A Discussion on Executive Power
CLASS:PUBLIC
X-ALT-DESC;FMTTYPE=text/html:Event: A Discussion on Executive Power\n\n Loc
 ation: Myron Taylor Hall Ithaca NY 14850\n\n
DTSTAMP:20221226T135713Z
END:VEVENT
END:VCALENDAR