BEGIN:VCALENDAR
VERSION:2.0
PRODID:https://fedsoc.org/events/march-2022-dc-lunch-with-ed-whelan
BEGIN:VEVENT
UID:63a9bab82a0eb
DTSTART:20220301T170000Z
SEQUENCE:0
TRANSP:OPAQUE
DTEND:20220301T180000Z
LOCATION:   
SUMMARY:March 2022 Virtual DC Lunch with Ed Whelan
CLASS:PUBLIC
X-ALT-DESC;FMTTYPE=text/html:Event: March 2022 Virtual DC Lunch with Ed Whe
 lan\n\n Location:    \n\n
DTSTAMP:20221226T101608Z
END:VEVENT
END:VCALENDAR