BEGIN:VCALENDAR
VERSION:2.0
PRODID:https://fedsoc.org/events/perspective-on-dobbs-personhood-and-the-14
 th-amendment
BEGIN:VEVENT
UID:63a9e46ab1c59
DTSTART:20220222T230000Z
SEQUENCE:0
TRANSP:OPAQUE
DTEND:20220223T000000Z
LOCATION:50 E Rivercenter Blvd # 1900 Covington KY 41011
SUMMARY:Perspective on Dobbs: Personhood and the 14th Amendment
CLASS:PUBLIC
X-ALT-DESC;FMTTYPE=text/html:Event: Perspective on Dobbs: Personhood and th
 e 14th Amendment\n\n Location: 50 E Rivercenter Blvd # 1900 Covington KY 4
 1011\n\n
DTSTAMP:20221226T131402Z
END:VEVENT
END:VCALENDAR