BEGIN:VCALENDAR
VERSION:2.0
PRODID:https://fedsoc.org/events/the-mis-use-of-anti-suit-injunctions-in-in
 ternational-ip-litigation-can-foreign-courts-enjoin-enforcement-of-us-pate
 nt-rights
BEGIN:VEVENT
UID:63a9c19fbf1a9
DTSTART:20220203T193000Z
SEQUENCE:0
TRANSP:OPAQUE
DTEND:20220203T203000Z
LOCATION:   
SUMMARY:The (Mis)Use of Anti-Suit Injunctions in International IP Litigatio
 n: Can foreign courts enjoin enforcement of US patent rights?
CLASS:PUBLIC
X-ALT-DESC;FMTTYPE=text/html:Event: The (Mis)Use of Anti-Suit Injunctions i
 n International IP Litigation: Can foreign courts enjoin enforcement of US
  patent rights?\n\n Location:    \n\n
DTSTAMP:20221226T104535Z
END:VEVENT
END:VCALENDAR