BEGIN:VCALENDAR
VERSION:2.0
PRODID:https://fedsoc.org/events/cochran-v-sec-vindicating-article-iii-juri
 sdiction-over-the-structural-constitution-and-aljs
BEGIN:VEVENT
UID:63a9c168ae19d
DTSTART:20220202T170000Z
SEQUENCE:0
TRANSP:OPAQUE
DTEND:20220202T180023Z
LOCATION:   
SUMMARY:Cochran v. SEC: Vindicating Article III Jurisdiction over the Struc
 tural Constitution and ALJs
CLASS:PUBLIC
X-ALT-DESC;FMTTYPE=text/html:Event: Cochran v. SEC: Vindicating Article III
  Jurisdiction over the Structural Constitution and ALJs\n\n Location:    \
 n\n
DTSTAMP:20221226T104440Z
END:VEVENT
END:VCALENDAR