BEGIN:VCALENDAR
VERSION:2.0
PRODID:https://fedsoc.org/events/originalism-s-promise-a-natural-law-accoun
 t-of-the-american-constitution-9
BEGIN:VEVENT
UID:63a9e479b8146
DTSTART:20220124T170000Z
SEQUENCE:0
TRANSP:OPAQUE
DTEND:20220124T180029Z
LOCATION:309 Village Dr. Gainesville FL 32611
SUMMARY:Originalism's Promise: A Natural Law Account of the American Consti
 tution
CLASS:PUBLIC
X-ALT-DESC;FMTTYPE=text/html:Event: Originalism's Promise: A Natural Law Ac
 count of the American Constitution\n\n Location: 309 Village Dr. Gainesvil
 le FL 32611\n\n
DTSTAMP:20221226T131417Z
END:VEVENT
END:VCALENDAR