BEGIN:VCALENDAR
VERSION:2.0
PRODID:https://fedsoc.org/events/talks-with-authors-the-great-dissenter-the
 -story-of-john-marshall-harlan
BEGIN:VEVENT
UID:63a9c1a51482b
DTSTART:20220111T180000Z
SEQUENCE:0
TRANSP:OPAQUE
DTEND:20220111T190000Z
LOCATION:   
SUMMARY:Talks with Authors: The Great Dissenter: The Story of John Marshall
  Harlan
CLASS:PUBLIC
X-ALT-DESC;FMTTYPE=text/html:Event: Talks with Authors: The Great Dissenter
 : The Story of John Marshall Harlan\n\n Location:    \n\n
DTSTAMP:20221226T104541Z
END:VEVENT
END:VCALENDAR