BEGIN:VCALENDAR
VERSION:2.0
PRODID:https://fedsoc.org/events/the-fourth-amendment-at-the-high-court-las
 t-term-in-review-and-the-future
BEGIN:VEVENT
UID:63a82b055194a
DTSTART:20220110T170000Z
SEQUENCE:0
TRANSP:OPAQUE
DTEND:20220110T183000Z
LOCATION:   
SUMMARY:The Fourth Amendment at the High Court: Last Term in Review and the
  Future
CLASS:PUBLIC
X-ALT-DESC;FMTTYPE=text/html:Event: The Fourth Amendment at the High Court:
  Last Term in Review and the Future\n\n Location:    \n\n
DTSTAMP:20221225T055045Z
END:VEVENT
END:VCALENDAR