BEGIN:VCALENDAR
VERSION:2.0
PRODID:https://fedsoc.org/events/dobbs-v-jackson-women-s-health-organizatio
 n-a-debate
BEGIN:VEVENT
UID:63a78ee46d21b
DTSTART:20220127T173000Z
SEQUENCE:0
TRANSP:OPAQUE
DTEND:20220127T183000Z
LOCATION:3301 Fairfax Drive Arlington VA 22201
SUMMARY:Dobbs v. Jackson Women’s Health Organization: A Debate
CLASS:PUBLIC
X-ALT-DESC;FMTTYPE=text/html:Event: Dobbs v. Jackson Women’s Health Organ
 ization: A Debate\n\n Location: 3301 Fairfax Drive Arlington VA 22201\n\n
DTSTAMP:20221224T184436Z
END:VEVENT
END:VCALENDAR