BEGIN:VCALENDAR
VERSION:2.0
PRODID:https://fedsoc.org/events/roiling-the-waters-clean-water-act-navigab
 le-waters-definition-litigation-and-regulatory-developments
BEGIN:VEVENT
UID:63a7d1a8bfbc5
DTSTART:20211216T183000Z
SEQUENCE:0
TRANSP:OPAQUE
DTEND:20211216T193000Z
LOCATION:   
SUMMARY:Roiling the Waters: Clean Water Act “Navigable Waters” Definiti
 on – Litigation and Regulatory Developments
CLASS:PUBLIC
X-ALT-DESC;FMTTYPE=text/html:Event: Roiling the Waters: Clean Water Act “
 Navigable Waters” Definition – Litigation and Regulatory Developments\
 n\n Location:    \n\n
DTSTAMP:20221224T232928Z
END:VEVENT
END:VCALENDAR