BEGIN:VCALENDAR
VERSION:2.0
PRODID:https://fedsoc.org/events/courthouse-steps-oral-argument-webinar-dob
 bs-v-jackson-women-s-health-organization
BEGIN:VEVENT
UID:63a7d80c6057c
DTSTART:20211206T180000Z
SEQUENCE:0
TRANSP:OPAQUE
DTEND:20211206T190000Z
LOCATION:   
SUMMARY:Courthouse Steps Oral Argument Webinar: Dobbs v. Jackson Women's He
 alth Organization
CLASS:PUBLIC
X-ALT-DESC;FMTTYPE=text/html:Event: Courthouse Steps Oral Argument Webinar:
  Dobbs v. Jackson Women's Health Organization\n\n Location:    \n\n
DTSTAMP:20221224T235644Z
END:VEVENT
END:VCALENDAR