BEGIN:VCALENDAR
VERSION:2.0
PRODID:https://fedsoc.org/events/a-seat-at-the-sitting-november-2021
BEGIN:VEVENT
UID:63a9f973e0b08
DTSTART:20211027T150000Z
SEQUENCE:0
TRANSP:OPAQUE
DTEND:20211027T163000Z
LOCATION:   
SUMMARY:A Seat at the Sitting - November 2021
CLASS:PUBLIC
X-ALT-DESC;FMTTYPE=text/html:Event: A Seat at the Sitting - November 2021\n
 \n Location:    \n\n
DTSTAMP:20221226T144347Z
END:VEVENT
END:VCALENDAR