BEGIN:VCALENDAR
VERSION:2.0
PRODID:https://fedsoc.org/events/federalism-in-the-age-of-pandemic-health-m
 easures
BEGIN:VEVENT
UID:63a9e9da64294
DTSTART:20211104T170000Z
SEQUENCE:0
TRANSP:OPAQUE
DTEND:20211104T180000Z
LOCATION:   
SUMMARY:Federalism in the Age of Pandemic Health Measures
CLASS:PUBLIC
X-ALT-DESC;FMTTYPE=text/html:Event: Federalism in the Age of Pandemic Healt
 h Measures\n\n Location:    \n\n
DTSTAMP:20221226T133714Z
END:VEVENT
END:VCALENDAR