BEGIN:VCALENDAR
VERSION:2.0
PRODID:https://fedsoc.org/events/litigation-update-eviction-moratoria
BEGIN:VEVENT
UID:63a9849b5392d
DTSTART:20211012T153019Z
SEQUENCE:0
TRANSP:OPAQUE
DTEND:20211012T163026Z
LOCATION:   
SUMMARY:Litigation Update: Eviction Moratoria
CLASS:PUBLIC
X-ALT-DESC;FMTTYPE=text/html:Event: Litigation Update: Eviction Moratoria\n
 \n Location:    \n\n
DTSTAMP:20221226T062515Z
END:VEVENT
END:VCALENDAR