BEGIN:VCALENDAR
VERSION:2.0
PRODID:https://fedsoc.org/events/what-is-the-right-way-forward-on-clemency-
 reform
BEGIN:VEVENT
UID:63a9e2cdce512
DTSTART:20211014T180000Z
SEQUENCE:0
TRANSP:OPAQUE
DTEND:20211014T190000Z
LOCATION:   
SUMMARY:What is the Right Way Forward on Clemency Reform?
CLASS:PUBLIC
X-ALT-DESC;FMTTYPE=text/html:Event: What is the Right Way Forward on Clemen
 cy Reform?\n\n Location:    \n\n
DTSTAMP:20221226T130709Z
END:VEVENT
END:VCALENDAR