BEGIN:VCALENDAR
VERSION:2.0
PRODID:https://fedsoc.org/events/china-fully-engaged-in-latin-america-what-
 is-the-u-s-plan-1
BEGIN:VEVENT
UID:63a9a40f5bcf9
DTSTART:20211019T160000Z
SEQUENCE:0
TRANSP:OPAQUE
DTEND:20211019T170000Z
LOCATION:   
SUMMARY:China Fully Engaged in Latin America: What Is the U.S. Plan?
CLASS:PUBLIC
X-ALT-DESC;FMTTYPE=text/html:Event: China Fully Engaged in Latin America: W
 hat Is the U.S. Plan?\n\n Location:    \n\n
DTSTAMP:20221226T083927Z
END:VEVENT
END:VCALENDAR