BEGIN:VCALENDAR
VERSION:2.0
PRODID:https://fedsoc.org/events/search-warrants-the-attorney-client-privil
 ege-and-federal-criminal-rule-41-g
BEGIN:VEVENT
UID:63a79de9b08f1
DTSTART:20210923T170010Z
SEQUENCE:0
TRANSP:OPAQUE
DTEND:20210923T180021Z
LOCATION:   
SUMMARY:Search Warrants\, the Attorney-Client Privilege\, and Federal Crimi
 nal Rule 41(g)
CLASS:PUBLIC
X-ALT-DESC;FMTTYPE=text/html:Event: Search Warrants\, the Attorney-Client P
 rivilege\, and Federal Criminal Rule 41(g)\n\n Location:    \n\n
DTSTAMP:20221224T194841Z
END:VEVENT
END:VCALENDAR