BEGIN:VCALENDAR
VERSION:2.0
PRODID:https://fedsoc.org/events/redistricting-discussing-the-john-r-lewis-
 voting-rights-advancement-act
BEGIN:VEVENT
UID:63a856ab18cf4
DTSTART:20211001T160000Z
SEQUENCE:0
TRANSP:OPAQUE
DTEND:20211001T170000Z
LOCATION:   
SUMMARY:Redistricting: Discussing the John R. Lewis Voting Rights Advanceme
 nt Act 
CLASS:PUBLIC
X-ALT-DESC;FMTTYPE=text/html:Event: Redistricting: Discussing the John R. L
 ewis Voting Rights Advancement Act \n\n Location:    \n\n
DTSTAMP:20221225T085659Z
END:VEVENT
END:VCALENDAR