BEGIN:VCALENDAR
VERSION:2.0
PRODID:https://fedsoc.org/events/fireside-chat-professor-george-la-noue
BEGIN:VEVENT
UID:63a7ffad13176
DTSTART:20210826T200000Z
SEQUENCE:0
TRANSP:OPAQUE
DTEND:20210826T210000Z
LOCATION:   
SUMMARY:Fireside Chat: Professor George La Noue 
CLASS:PUBLIC
X-ALT-DESC;FMTTYPE=text/html:Event: Fireside Chat: Professor George La Noue
  \n\n Location:    \n\n
DTSTAMP:20221225T024549Z
END:VEVENT
END:VCALENDAR