BEGIN:VCALENDAR
VERSION:2.0
PRODID:https://fedsoc.org/events/vaccine-mandates-and-exemptions-public-uni
 versities-private-colleges-and-more
BEGIN:VEVENT
UID:63a9c41351874
DTSTART:20210817T160000Z
SEQUENCE:0
TRANSP:OPAQUE
DTEND:20210817T170000Z
LOCATION:   
SUMMARY:Vaccine Mandates and Exemptions: Public Universities\, Private Coll
 eges\, and More
CLASS:PUBLIC
X-ALT-DESC;FMTTYPE=text/html:Event: Vaccine Mandates and Exemptions: Public
  Universities\, Private Colleges\, and More\n\n Location:    \n\n
DTSTAMP:20221226T105603Z
END:VEVENT
END:VCALENDAR