BEGIN:VCALENDAR
VERSION:2.0
PRODID:https://fedsoc.org/events/opening-reception-6
BEGIN:VEVENT
UID:63a81eb3f115f
DTSTART:20210917T223000Z
SEQUENCE:0
TRANSP:OPAQUE
DTEND:20210918T003000Z
LOCATION:3819 Maple Ave Dallas TX 75219
SUMMARY:Opening Reception
CLASS:PUBLIC
X-ALT-DESC;FMTTYPE=text/html:Event: Opening Reception\n\n Location: 3819 Ma
 ple Ave Dallas TX 75219\n\n
DTSTAMP:20221225T045811Z
END:VEVENT
END:VCALENDAR