BEGIN:VCALENDAR
VERSION:2.0
PRODID:https://fedsoc.org/events/closing-reception-28
BEGIN:VEVENT
UID:63a81eb9b93cf
DTSTART:20210918T213000Z
SEQUENCE:0
TRANSP:OPAQUE
DTEND:20210918T223000Z
LOCATION:2943 SMU Boulevard Dallas TX 75205
SUMMARY:Closing Reception
CLASS:PUBLIC
X-ALT-DESC;FMTTYPE=text/html:Event: Closing Reception\n\n Location: 2943 SM
 U Boulevard Dallas TX 75205\n\n
DTSTAMP:20221225T045817Z
END:VEVENT
END:VCALENDAR