BEGIN:VCALENDAR
VERSION:2.0
PRODID:https://fedsoc.org/events/fourth-annual-gregory-s-coleman-memorial-l
 ecture-luncheon
BEGIN:VEVENT
UID:63a81e80cff21
DTSTART:20210918T174500Z
SEQUENCE:0
TRANSP:OPAQUE
DTEND:20210918T194500Z
LOCATION:2943 SMU Boulevard Dallas TX 75205
SUMMARY:Fourth Annual Gregory S. Coleman Memorial Lecture & Luncheon
CLASS:PUBLIC
X-ALT-DESC;FMTTYPE=text/html:Event: Fourth Annual Gregory S. Coleman Memori
 al Lecture & Luncheon\n\n Location: 2943 SMU Boulevard Dallas TX 75205\n\n
DTSTAMP:20221225T045720Z
END:VEVENT
END:VCALENDAR