BEGIN:VCALENDAR
VERSION:2.0
PRODID:https://fedsoc.org/events/panel-3-can-you-be-a-conservative-in-big-l
 aw
BEGIN:VEVENT
UID:63a81eeb8093b
DTSTART:20210918T200000Z
SEQUENCE:0
TRANSP:OPAQUE
DTEND:20210918T213000Z
LOCATION:2943 SMU Boulevard Dallas TX 75205
SUMMARY:Panel 3: Can You Be a Conservative in Big Law?
CLASS:PUBLIC
X-ALT-DESC;FMTTYPE=text/html:Event: Panel 3: Can You Be a Conservative in B
 ig Law?\n\n Location: 2943 SMU Boulevard Dallas TX 75205\n\n
DTSTAMP:20221225T045907Z
END:VEVENT
END:VCALENDAR