BEGIN:VCALENDAR
VERSION:2.0
PRODID:https://fedsoc.org/events/panel-2-big-tech-and-the-future-of-section
 -230
BEGIN:VEVENT
UID:63a81e7b84cf7
DTSTART:20210918T163000Z
SEQUENCE:0
TRANSP:OPAQUE
DTEND:20210918T174500Z
LOCATION:2943 SMU Boulevard Dallas TX 75205
SUMMARY:Panel 2: Big Tech and The Future of Section 230
CLASS:PUBLIC
X-ALT-DESC;FMTTYPE=text/html:Event: Panel 2: Big Tech and The Future of Sec
 tion 230\n\n Location: 2943 SMU Boulevard Dallas TX 75205\n\n
DTSTAMP:20221225T045715Z
END:VEVENT
END:VCALENDAR