BEGIN:VCALENDAR
VERSION:2.0
PRODID:https://fedsoc.org/events/registration-and-breakfast-1
BEGIN:VEVENT
UID:63a81ea3ed28c
DTSTART:20210918T130000Z
SEQUENCE:0
TRANSP:OPAQUE
DTEND:20210918T141500Z
LOCATION:2943 SMU Boulevard Dallas TX 75205
SUMMARY:Registration and Breakfast
CLASS:PUBLIC
X-ALT-DESC;FMTTYPE=text/html:Event: Registration and Breakfast\n\n Location
 : 2943 SMU Boulevard Dallas TX 75205\n\n
DTSTAMP:20221225T045755Z
END:VEVENT
END:VCALENDAR