BEGIN:VCALENDAR
VERSION:2.0
PRODID:https://fedsoc.org/events/panel-1-texas-vs-united-states
BEGIN:VEVENT
UID:63a81e7672a73
DTSTART:20210918T144500Z
SEQUENCE:0
TRANSP:OPAQUE
DTEND:20210918T161500Z
LOCATION:2943 SMU Boulevard Dallas TX 75205
SUMMARY:Panel 1: Representing the State of Texas
CLASS:PUBLIC
X-ALT-DESC;FMTTYPE=text/html:Event: Panel 1: Representing the State of Texa
 s\n\n Location: 2943 SMU Boulevard Dallas TX 75205\n\n
DTSTAMP:20221225T045710Z
END:VEVENT
END:VCALENDAR