BEGIN:VCALENDAR
VERSION:2.0
PRODID:https://fedsoc.org/events/advice-for-young-lawyers-roundtable
BEGIN:VEVENT
UID:63a81edc09d89
DTSTART:20210918T133000Z
SEQUENCE:0
TRANSP:OPAQUE
DTEND:20210918T143000Z
LOCATION:2943 SMU Boulevard Dallas TX 75205
SUMMARY:Advice for Young Lawyers Roundtable
CLASS:PUBLIC
X-ALT-DESC;FMTTYPE=text/html:Event: Advice for Young Lawyers Roundtable\n\n
  Location: 2943 SMU Boulevard Dallas TX 75205\n\n
DTSTAMP:20221225T045852Z
END:VEVENT
END:VCALENDAR