BEGIN:VCALENDAR
VERSION:2.0
PRODID:https://fedsoc.org/events/opioids-in-2021-enforcement-strategies-and
 -policy-prescriptions
BEGIN:VEVENT
UID:63a9844a21091
DTSTART:20210726T180000Z
SEQUENCE:0
TRANSP:OPAQUE
DTEND:20210726T190000Z
LOCATION:   
SUMMARY:Opioids in 2021: Enforcement Strategies and Policy Prescriptions
CLASS:PUBLIC
X-ALT-DESC;FMTTYPE=text/html:Event: Opioids in 2021: Enforcement Strategies
  and Policy Prescriptions\n\n Location:    \n\n
DTSTAMP:20221226T062354Z
END:VEVENT
END:VCALENDAR