BEGIN:VCALENDAR
VERSION:2.0
PRODID:https://fedsoc.org/events/courthouse-steps-decision-webinar-american
 s-for-prosperity-v-bonta
BEGIN:VEVENT
UID:63a838ea909b6
DTSTART:20210706T180000Z
SEQUENCE:0
TRANSP:OPAQUE
DTEND:20210706T190000Z
LOCATION:   
SUMMARY:Courthouse Steps Decision Webinar: Americans for Prosperity v. Bont
 a
CLASS:PUBLIC
X-ALT-DESC;FMTTYPE=text/html:Event: Courthouse Steps Decision Webinar: Amer
 icans for Prosperity v. Bonta\n\n Location:    \n\n
DTSTAMP:20221225T065002Z
END:VEVENT
END:VCALENDAR