BEGIN:VCALENDAR
VERSION:2.0
PRODID:https://fedsoc.org/events/2002-national-student-symposium-banquet-pa
 nel-on-the-founding-of-the-federalist-society
BEGIN:VEVENT
UID:63a7da1e3d077
DTSTART:20020303T000029Z
SEQUENCE:0
TRANSP:OPAQUE
DTEND:20020303T030039Z
LOCATION:127 Wall Street New Haven CT 06511
SUMMARY:2002 National Student Symposium Banquet: Panel on the Founding of t
 he Federalist Society
CLASS:PUBLIC
X-ALT-DESC;FMTTYPE=text/html:Event: 2002 National Student Symposium Banquet
 : Panel on the Founding of the Federalist Society\n\n Location: 127 Wall S
 treet New Haven CT 06511\n\n
DTSTAMP:20221225T000534Z
END:VEVENT
END:VCALENDAR