BEGIN:VCALENDAR
VERSION:2.0
PRODID:https://fedsoc.org/events/panel-iv-roundtable-on-the-lawyer-s-respon
 sibility-to-the-truth
BEGIN:VEVENT
UID:63a7da4410bf3
DTSTART:20020302T204540Z
SEQUENCE:0
TRANSP:OPAQUE
DTEND:20020302T223051Z
LOCATION:127 Wall Street New Haven CT 06511
SUMMARY:Panel IV: Roundtable on the Lawyer's Responsibility to the Truth
CLASS:PUBLIC
X-ALT-DESC;FMTTYPE=text/html:Event: Panel IV: Roundtable on the Lawyer's Re
 sponsibility to the Truth\n\n Location: 127 Wall Street New Haven CT 06511
 \n\n
DTSTAMP:20221225T000612Z
END:VEVENT
END:VCALENDAR