BEGIN:VCALENDAR
VERSION:2.0
PRODID:https://fedsoc.org/events/panel-iii-juries-and-the-adversary-system
BEGIN:VEVENT
UID:63a7da4940411
DTSTART:20020302T183020Z
SEQUENCE:0
TRANSP:OPAQUE
DTEND:20020302T201530Z
LOCATION:127 Wall Street New Haven CT 06511
SUMMARY:Panel III: Juries and the Adversary System
CLASS:PUBLIC
X-ALT-DESC;FMTTYPE=text/html:Event: Panel III: Juries and the Adversary Sys
 tem\n\n Location: 127 Wall Street New Haven CT 06511\n\n
DTSTAMP:20221225T000617Z
END:VEVENT
END:VCALENDAR