BEGIN:VCALENDAR
VERSION:2.0
PRODID:https://fedsoc.org/events/debate-exclusionary-rules
BEGIN:VEVENT
UID:63a7da3ed8119
DTSTART:20020302T160047Z
SEQUENCE:0
TRANSP:OPAQUE
DTEND:20020302T170058Z
LOCATION:127 Wall Street New Haven CT 06511
SUMMARY:Debate: Exclusionary Rules
CLASS:PUBLIC
X-ALT-DESC;FMTTYPE=text/html:Event: Debate: Exclusionary Rules\n\n Location
 : 127 Wall Street New Haven CT 06511\n\n
DTSTAMP:20221225T000606Z
END:VEVENT
END:VCALENDAR